BEGIN:VCALENDAR
METHOD:PUBLISH
PRODID:-//Weblication CMS
VERSION:2.0
BEGIN:VEVENT
SUMMARY:Schulkonferenz
DTSTART:20240313T153000
DTEND:20240313T165959
DESCRIPTION:Raum 503
LOCATION:
UID:https://www.roman-herzog-schule.de/548975-roman-herzog-schule-de/aktuelles/termine/termine/Schulkonferenz-10.php
URL:https://www.roman-herzog-schule.de/548975-roman-herzog-schule-de/aktuelles/termine/termine/Schulkonferenz-10.php
END:VEVENT
BEGIN:VEVENT
SUMMARY:Schulkonferenz
DTSTART:20240617T153000
DTEND:20240617T165959
DESCRIPTION:Raum 503
LOCATION:
UID:https://www.roman-herzog-schule.de/548975-roman-herzog-schule-de/aktuelles/termine/termine/Schulkonferenz-10.php
URL:https://www.roman-herzog-schule.de/548975-roman-herzog-schule-de/aktuelles/termine/termine/Schulkonferenz-10.php
END:VEVENT
END:VCALENDAR